BEGIN:VCALENDAR
VERSION:2.0
PRODID:https://www.kufer.de/kuferweb / DE
METHOD:PUBLISH
CALSCALE:GREGORIAN
X-WR-TIMEZONE:Europe/Berlin
BEGIN:VTIMEZONE
TZID:Europe/Berlin
X-LIC-LOCATION:Europe/Berlin
BEGIN:DAYLIGHT
TZOFFSETFROM:+0100
TZOFFSETTO:+0200
TZNAME:CEST
DTSTART:19700329T020000
RRULE:FREQ=YEARLY;INTERVAL=1;BYDAY=-1SU;BYMONTH=3
END:DAYLIGHT
BEGIN:STANDARD
TZOFFSETFROM:+0200
TZOFFSETTO:+0100
TZNAME:CET
DTSTART:19701025T030000
RRULE:FREQ=YEARLY;INTERVAL=1;BYDAY=-1SU;BYMONTH=10
END:STANDARD
END:VTIMEZONE
BEGIN:VEVENT
DTSTAMP:20260422T105721
DTSTART;TZID=Europe/Berlin:20260609T190000
DTEND;TZID=Europe/Berlin:20260609T210000
UID:261.5415-3-20260609T190000@VHSMOOSBURG
SUMMARY:Kreatives Stricken und Häkeln 3 für Anfänger und Fortgeschrittene (261.5415-3) 
LOCATION:Stadtplatz 2, Nähatelier, Stadtplatz 2, 85368 Moosburg
END:VEVENT
BEGIN:VEVENT
DTSTAMP:20260422T105721
DTSTART;TZID=Europe/Berlin:20260616T190000
DTEND;TZID=Europe/Berlin:20260616T210000
UID:261.5415-3-20260616T190000@VHSMOOSBURG
SUMMARY:Kreatives Stricken und Häkeln 3 für Anfänger und Fortgeschrittene (261.5415-3) 
LOCATION:Stadtplatz 2, Nähatelier, Stadtplatz 2, 85368 Moosburg
END:VEVENT
BEGIN:VEVENT
DTSTAMP:20260422T105721
DTSTART;TZID=Europe/Berlin:20260623T190000
DTEND;TZID=Europe/Berlin:20260623T210000
UID:261.5415-3-20260623T190000@VHSMOOSBURG
SUMMARY:Kreatives Stricken und Häkeln 3 für Anfänger und Fortgeschrittene (261.5415-3) 
LOCATION:Stadtplatz 2, Nähatelier, Stadtplatz 2, 85368 Moosburg
END:VEVENT
BEGIN:VEVENT
DTSTAMP:20260422T105721
DTSTART;TZID=Europe/Berlin:20260630T190000
DTEND;TZID=Europe/Berlin:20260630T210000
UID:261.5415-3-20260630T190000@VHSMOOSBURG
SUMMARY:Kreatives Stricken und Häkeln 3 für Anfänger und Fortgeschrittene (261.5415-3) 
LOCATION:Stadtplatz 2, Nähatelier, Stadtplatz 2, 85368 Moosburg
END:VEVENT
END:VCALENDAR